BEGIN:VCALENDAR
VERSION:2.0
METHOD:PUBLISH
PRODID:-//Agenda.ad//NONSGML v1.0//EN
BEGIN:VEVENT
CLASS:PUBLIC
UID:5bf6fb75645364ac0aba47001dbc8399@agenda.ad
DTSTAMP:20260422T043951Z
DTSTART:20190207T230000Z
DTEND:20190207T230000Z
SUMMARY:Hard Rock Caf&egrave; Concerts -&nbsp;Xavi Malacara
DESCRIPTION:\n\nMés informació\nhttps://www.agenda.ad/activitat/andorr
 a-la-vella/musica/hard-rock-cafe-concerts- xavi-malacara\nM
 és informació, aquí.Tel.: +376 811 888\
 n\nOrganitza\nHard Rock Cafè Andorra
LOCATION:Hard Rock Cafè
SEQUENCE:0
TRANSP:OPAQUE
X-ALT-DESC;FMTTYPE=text/html:<!DOCTYPE HTML PUBLIC "-//W3C//DTD HTML 3.2//EN"><HTML><HEAD
 ><TITLE></TITLE></HEAD><BODY><FONT FACE="Arial" SIZE=2><br/>
 <br/><b>Més informació</b><br/><a href="https://www.agenda
 .ad/activitat/andorra-la-vella/musica/hard-rock-cafe-concert
 s- xavi-malacara">https://www.agenda.ad/activitat/andorra-l
 a-vella/musica/hard-rock-cafe-concerts- xavi-malacara</a><b
 r/>M&eacute;s informaci&oacute;, aqu&iacute;.Tel.: +376 811 
 888<br/><br/><b>Organitza</b><br/>Hard Rock Cafè Andorra</F
 ONT></BODY></HTML>
END:VEVENT
END:VCALENDAR